BEGIN:VCALENDAR
VERSION:2.0
PRODID:-//ONDA COFRADE SEVILLA - ECPv6.15.20//NONSGML v1.0//EN
CALSCALE:GREGORIAN
METHOD:PUBLISH
X-WR-CALNAME:ONDA COFRADE SEVILLA
X-ORIGINAL-URL:https://ondacofradesevilla.com
X-WR-CALDESC:Eventos para ONDA COFRADE SEVILLA
REFRESH-INTERVAL;VALUE=DURATION:PT1H
X-Robots-Tag:noindex
X-PUBLISHED-TTL:PT1H
BEGIN:VTIMEZONE
TZID:Europe/Madrid
BEGIN:DAYLIGHT
TZOFFSETFROM:+0100
TZOFFSETTO:+0200
TZNAME:CEST
DTSTART:20250330T010000
END:DAYLIGHT
BEGIN:STANDARD
TZOFFSETFROM:+0200
TZOFFSETTO:+0100
TZNAME:CET
DTSTART:20251026T010000
END:STANDARD
BEGIN:DAYLIGHT
TZOFFSETFROM:+0100
TZOFFSETTO:+0200
TZNAME:CEST
DTSTART:20260329T010000
END:DAYLIGHT
BEGIN:STANDARD
TZOFFSETFROM:+0200
TZOFFSETTO:+0100
TZNAME:CET
DTSTART:20261025T010000
END:STANDARD
BEGIN:DAYLIGHT
TZOFFSETFROM:+0100
TZOFFSETTO:+0200
TZNAME:CEST
DTSTART:20270328T010000
END:DAYLIGHT
BEGIN:STANDARD
TZOFFSETFROM:+0200
TZOFFSETTO:+0100
TZNAME:CET
DTSTART:20271031T010000
END:STANDARD
END:VTIMEZONE
BEGIN:VEVENT
DTSTART;TZID=Europe/Madrid:20260420T080000
DTEND;TZID=Europe/Madrid:20260420T170000
DTSTAMP:20260420T215421
CREATED:20260420T172809Z
LAST-MODIFIED:20260420T172809Z
UID:7442-1776672000-1776704400@ondacofradesevilla.com
SUMMARY:Agenda del miércoles 22 de abril de 2026
DESCRIPTION:– Jubileo Circular en la Capilla de San Onofre. Plaza Nueva\, 4. Abierta 24 horas
URL:https://ondacofradesevilla.com/agenda/agenda-del-miercoles-22-de-abril-de-2026/
CATEGORIES:agenda
END:VEVENT
BEGIN:VEVENT
DTSTART;TZID=Europe/Madrid:20260420T080000
DTEND;TZID=Europe/Madrid:20260420T170000
DTSTAMP:20260420T215421
CREATED:20260420T172852Z
LAST-MODIFIED:20260420T172852Z
UID:7444-1776672000-1776704400@ondacofradesevilla.com
SUMMARY:Agenda del jueves 23 de abril de 2026
DESCRIPTION:Jubileo Circular en la Capilla de San Onofre. Plaza Nueva\, 4. Abierta 24 horas
URL:https://ondacofradesevilla.com/agenda/agenda-del-jueves-23-de-abril-de-2026/
CATEGORIES:agenda
END:VEVENT
BEGIN:VEVENT
DTSTART;TZID=Europe/Madrid:20260421T103000
DTEND;TZID=Europe/Madrid:20260421T203000
DTSTAMP:20260420T215421
CREATED:20260420T172125Z
LAST-MODIFIED:20260420T175319Z
UID:7438-1776767400-1776803400@ondacofradesevilla.com
SUMMARY:De 10\,30 a 13\,30 y de 18\,30 a 20\,30 horas. Jubileo Circular en el Convento del Santo Ángel (C/ Rioja).
DESCRIPTION:
URL:https://ondacofradesevilla.com/agenda/agenda-del-martes-21-de-abril-de-2026/
CATEGORIES:agenda
END:VEVENT
END:VCALENDAR